View In:
ArcGIS JavaScript
ArcGIS Online Map Viewer
ArcGIS Earth
Service Description: El_Mirage_2023_tif
Name: El_Mirage_2023_tif
Description:
Single Fused Map Cache: false
Extent:
XMin: 437994.0
YMin: 3805046.0
XMax: 448986.5
YMax: 3840250.0
Spatial Reference: 32611
(32611)
LatestVCSWkid(0)
Initial Extent:
XMin: 437994.0
YMin: 3805046.0
XMax: 448986.5
YMax: 3840250.0
Spatial Reference: 32611
(32611)
LatestVCSWkid(0)
Full Extent:
XMin: 437994.0
YMin: 3805046.0
XMax: 448986.5
YMax: 3840250.0
Spatial Reference: 32611
(32611)
LatestVCSWkid(0)
Pixel Size X: 0.5
Pixel Size Y: 0.5
Band Count: 4
Pixel Type: U16
RasterFunction Infos: {"rasterFunctionInfos": [{
"name": "None",
"description": "",
"help": ""
}]}
Mensuration Capabilities: Basic
Inspection Capabilities:
Has Histograms: true
Has Colormap: false
Has Multi Dimensions : false
Rendering Rule:
Min Scale: 0
Max Scale: 0
Copyright Text:
Service Data Type: esriImageServiceDataTypeGeneric
Min Values: 1, 1, 1, 1
Max Values: 8744, 8746, 8013, 4921
Mean Values: 335.29920763725, 418.07331466035, 435.07330806802, 340.07128126049
Standard Deviation Values: 220.62718146218, 286.42073004133, 299.00174194746, 211.8294379621
Object ID Field:
Fields:
None
Default Mosaic Method: Center
Allowed Mosaic Methods:
SortField:
SortValue: null
Mosaic Operator: First
Default Compression Quality: 75
Default Resampling Method: Bilinear
Max Record Count: null
Max Image Height: 4100
Max Image Width: 15000
Max Download Image Count: null
Max Mosaic Image Count: null
Allow Raster Function: true
Allow Copy: true
Allow Analysis: true
Allow Compute TiePoints: false
Supports Statistics: false
Supports Advanced Queries: false
Use StandardizedQueries: true
Raster Type Infos:
Name: Raster Dataset
Description: Supports all ArcGIS Raster Datasets
Help:
Has Raster Attribute Table: false
Edit Fields Info: null
Ownership Based AccessControl For Rasters: null
Child Resources:
Info
Histograms
Statistics
Key Properties
Legend
Raster Function Infos
Supported Operations:
Export Image
Identify
Measure
Compute Histograms
Compute Statistics Histograms
Get Samples
Compute Class Statistics
Query Boundary
Compute Pixel Location
Compute Angles
Validate
Project