{
 "currentVersion": 11.5,
 "serviceDescription": "El_Mirage_2023_tif",
 "serviceItemId": "a131cddc9af5423ea326ee61678a682a",
 "name": "El_Mirage_2023_tif",
 "description": "",
 "extent": {
  "xmin": 437994,
  "ymin": 3805046,
  "xmax": 448986.5,
  "ymax": 3840250,
  "spatialReference": {
   "wkid": 32611,
   "latestWkid": 32611
  }
 },
 "initialExtent": {
  "xmin": 437994,
  "ymin": 3805046,
  "xmax": 448986.5,
  "ymax": 3840250,
  "spatialReference": {
   "wkid": 32611,
   "latestWkid": 32611
  }
 },
 "fullExtent": {
  "xmin": 437994,
  "ymin": 3805046,
  "xmax": 448986.5,
  "ymax": 3840250,
  "spatialReference": {
   "wkid": 32611,
   "latestWkid": 32611
  }
 },
 "sortableFields": "",
 "bandCount": 4,
 "pixelType": "U16",
 "minValues": [
  1,
  1,
  1,
  1
 ],
 "maxValues": [
  8744,
  8746,
  8013,
  4921
 ],
 "meanValues": [
  335.29920763725,
  418.07331466035,
  435.07330806802,
  340.07128126049
 ],
 "stdvValues": [
  220.62718146218,
  286.42073004133,
  299.00174194746,
  211.8294379621
 ],
 "serviceProperties": "Center<\/MosaicMethod>First<\/MosaicOperator>true<\/SortAscending><\/LockImageID><\/TileOrderField>0<\/TileOrderBase>0.000000<\/AvgImageSpacingX>0.000000<\/AvgImageSpacingY>0.0<\/ViewPointX>0.0<\/ViewPointY>0.0<\/ViewPointDefShiftX>0.0<\/ViewPointDefShiftY>None<\/CompressionMethod>75<\/CompressionQuality>0.010000<\/CompressionTolerance>Bilinear<\/SamplingMethod><\/ImageServiceProperties><\/ImageServer>",
 "allowedFields": "",
 "hasMultidimensions": false,
 "pixelSizeX": 0.5,
 "pixelSizeY": 0.5,
 "meanPixelSize": 0.5,
 "datasetFormat": "TIFF",
 "uncompressedSize": 12383359040,
 "blockWidth": 128,
 "blockHeight": 128,
 "compressionType": "LZW",
 "bandNames": [
  "Band_1",
  "Band_2",
  "Band_3",
  "Band_4"
 ],
 "allowCopy": true,
 "allowAnalysis": true,
 "itemAccess": false,
 "inspectionCapabilities": "",
 "noDataValue": 65535,
 "noDataValues": [
  65535,
  65535,
  65535,
  65535
 ],
 "minPixelSize": 0,
 "maxPixelSize": 0,
 "copyrightText": "",
 "serviceDataType": "esriImageServiceDataTypeGeneric",
 "serviceSourceType": "esriImageServiceSourceTypeDataset",
 "objectIdField": "",
 "fields": [],
 "capabilities": "Image,Metadata,Mensuration",
 "defaultMosaicMethod": "Center",
 "allowedMosaicMethods": "",
 "sortField": "",
 "sortValue": null,
 "sortAscending": true,
 "mosaicOperator": "First",
 "defaultCompressionQuality": 75,
 "defaultResamplingMethod": "Bilinear",
 "maxImageHeight": 4100,
 "maxImageWidth": 15000,
 "allowRasterFunction": true,
 "rasterFunctionInfos": [
  {
   "name": "None",
   "description": "",
   "help": ""
  }
 ],
 "rasterTypeInfos": [
  {
   "name": "Raster Dataset",
   "description": "Supports all ArcGIS Raster Datasets",
   "help": ""
  }
 ],
 "mensurationCapabilities": "Basic",
 "hasHistograms": true,
 "hasColormap": false,
 "hasRasterAttributeTable": false,
 "minScale": 0,
 "maxScale": 0,
 "exportTilesAllowed": false,
 "supportsStatistics": false,
 "supportsAdvancedQueries": false,
 "editFieldsInfo": null,
 "ownershipBasedAccessControlForRasters": null,
 "allowComputeTiePoints": false,
 "useStandardizedQueries": true,
 "advancedQueryCapabilities": {
  "useStandardizedQueries": true,
  "supportsStatistics": false,
  "supportsOrderBy": false,
  "supportsDistinct": false,
  "supportsPagination": false
 },
 "spatialReference": {
  "wkid": 32611,
  "latestWkid": 32611
 }
}
