View In:
ArcGIS JavaScript
ArcGIS Online Map Viewer
ArcGIS Earth
Service Description: Wondervalley_2023_tif
Name: Wondervalley_2023_tif
Description:
Single Fused Map Cache: false
Extent:
XMin: 584096.0
YMin: 3769169.0
XMax: 620597.0
YMax: 3794427.5
Spatial Reference: 32611
(32611)
LatestVCSWkid(0)
Initial Extent:
XMin: 584096.0
YMin: 3769169.0
XMax: 620597.0
YMax: 3794427.5
Spatial Reference: 32611
(32611)
LatestVCSWkid(0)
Full Extent:
XMin: 584096.0
YMin: 3769169.0
XMax: 620597.0
YMax: 3794427.5
Spatial Reference: 32611
(32611)
LatestVCSWkid(0)
Pixel Size X: 0.5
Pixel Size Y: 0.5
Band Count: 4
Pixel Type: U16
RasterFunction Infos: {"rasterFunctionInfos": [{
"name": "None",
"description": "",
"help": ""
}]}
Mensuration Capabilities: Basic
Inspection Capabilities:
Has Histograms: true
Has Colormap: false
Has Multi Dimensions : false
Rendering Rule:
Min Scale: 0
Max Scale: 0
Copyright Text:
Service Data Type: esriImageServiceDataTypeGeneric
Min Values: 52, 63, 60, 22
Max Values: 4541, 5014, 5207, 4644
Mean Values: 324.86741363464, 394.12453867156, 475.61065801661, 382.96793593023
Standard Deviation Values: 56.741186885389, 88.269878177016, 126.81484417542, 106.62555147486
Object ID Field:
Fields:
None
Default Mosaic Method: Center
Allowed Mosaic Methods:
SortField:
SortValue: null
Mosaic Operator: First
Default Compression Quality: 75
Default Resampling Method: Bilinear
Max Record Count: null
Max Image Height: 4100
Max Image Width: 15000
Max Download Image Count: null
Max Mosaic Image Count: null
Allow Raster Function: true
Allow Copy: true
Allow Analysis: true
Allow Compute TiePoints: false
Supports Statistics: false
Supports Advanced Queries: false
Use StandardizedQueries: true
Raster Type Infos:
Name: Raster Dataset
Description: Supports all ArcGIS Raster Datasets
Help:
Has Raster Attribute Table: false
Edit Fields Info: null
Ownership Based AccessControl For Rasters: null
Child Resources:
Info
Histograms
Statistics
Key Properties
Legend
Raster Function Infos
Supported Operations:
Export Image
Identify
Measure
Compute Histograms
Compute Statistics Histograms
Get Samples
Compute Class Statistics
Query Boundary
Compute Pixel Location
Compute Angles
Validate
Project