View In:
ArcGIS JavaScript
ArcGIS Online Map Viewer
ArcGIS Earth
Service Description: Lucerne_2023
Name: Lucerne_2023
Description:
Single Fused Map Cache: false
Extent:
XMin: 496577.5
YMin: 3824378.5
XMax: 503323.5
YMax: 3843963.0
Spatial Reference: 32611
(32611)
LatestVCSWkid(0)
Initial Extent:
XMin: 496577.5
YMin: 3824378.5
XMax: 503323.5
YMax: 3843963.0
Spatial Reference: 32611
(32611)
LatestVCSWkid(0)
Full Extent:
XMin: 496577.5
YMin: 3824378.5
XMax: 503323.5
YMax: 3843963.0
Spatial Reference: 32611
(32611)
LatestVCSWkid(0)
Pixel Size X: 0.5
Pixel Size Y: 0.5
Band Count: 4
Pixel Type: U16
RasterFunction Infos: {"rasterFunctionInfos": [{
"name": "None",
"description": "",
"help": ""
}]}
Mensuration Capabilities: Basic
Inspection Capabilities:
Has Histograms: true
Has Colormap: false
Has Multi Dimensions : false
Rendering Rule:
Min Scale: 0
Max Scale: 0
Copyright Text:
Service Data Type: esriImageServiceDataTypeGeneric
Min Values: 84, 89, 55, 21
Max Values: 2892, 3396, 3705, 2196
Mean Values: 227.80349372613, 263.53347829949, 291.65769748957, 322.74523338694
Standard Deviation Values: 34.355406087096, 60.321645237283, 88.571616072895, 93.773698458318
Object ID Field:
Fields:
None
Default Mosaic Method: Center
Allowed Mosaic Methods:
SortField:
SortValue: null
Mosaic Operator: First
Default Compression Quality: 75
Default Resampling Method: Bilinear
Max Record Count: null
Max Image Height: 4100
Max Image Width: 15000
Max Download Image Count: null
Max Mosaic Image Count: null
Allow Raster Function: true
Allow Copy: true
Allow Analysis: true
Allow Compute TiePoints: false
Supports Statistics: false
Supports Advanced Queries: false
Use StandardizedQueries: true
Raster Type Infos:
Name: Raster Dataset
Description: Supports all ArcGIS Raster Datasets
Help:
Has Raster Attribute Table: false
Edit Fields Info: null
Ownership Based AccessControl For Rasters: null
Child Resources:
Info
Histograms
Statistics
Key Properties
Legend
Raster Function Infos
Supported Operations:
Export Image
Identify
Measure
Compute Histograms
Compute Statistics Histograms
Get Samples
Compute Class Statistics
Query Boundary
Compute Pixel Location
Compute Angles
Validate
Project