View In:
ArcGIS JavaScript
ArcGIS Online Map Viewer
ArcGIS Earth
Service Description: Landers_Palm_2023_tif
Name: Landers_Palm_2023_tif
Description:
Single Fused Map Cache: false
Extent:
XMin: 550044.0
YMin: 3781271.0
XMax: 585364.5
YMax: 3794060.5
Spatial Reference: 32611
(32611)
LatestVCSWkid(0)
Initial Extent:
XMin: 550044.0
YMin: 3781271.0
XMax: 585364.5
YMax: 3794060.5
Spatial Reference: 32611
(32611)
LatestVCSWkid(0)
Full Extent:
XMin: 550044.0
YMin: 3781271.0
XMax: 585364.5
YMax: 3794060.5
Spatial Reference: 32611
(32611)
LatestVCSWkid(0)
Pixel Size X: 0.5
Pixel Size Y: 0.5
Band Count: 4
Pixel Type: U16
RasterFunction Infos: {"rasterFunctionInfos": [{
"name": "None",
"description": "",
"help": ""
}]}
Mensuration Capabilities: Basic
Inspection Capabilities:
Has Histograms: true
Has Colormap: false
Has Multi Dimensions : false
Rendering Rule:
Min Scale: 0
Max Scale: 0
Copyright Text:
Service Data Type: esriImageServiceDataTypeGeneric
Min Values: 3, 1, 1, 1
Max Values: 6836, 6667, 5596, 4091
Mean Values: 308.58076097808, 367.54320057638, 466.9901522345, 391.76865393463
Standard Deviation Values: 58.451944822286, 89.795485986959, 117.3962205338, 93.861114357576
Object ID Field:
Fields:
None
Default Mosaic Method: Center
Allowed Mosaic Methods:
SortField:
SortValue: null
Mosaic Operator: First
Default Compression Quality: 75
Default Resampling Method: Bilinear
Max Record Count: null
Max Image Height: 4100
Max Image Width: 15000
Max Download Image Count: null
Max Mosaic Image Count: null
Allow Raster Function: true
Allow Copy: true
Allow Analysis: true
Allow Compute TiePoints: false
Supports Statistics: false
Supports Advanced Queries: false
Use StandardizedQueries: true
Raster Type Infos:
Name: Raster Dataset
Description: Supports all ArcGIS Raster Datasets
Help:
Has Raster Attribute Table: false
Edit Fields Info: null
Ownership Based AccessControl For Rasters: null
Child Resources:
Info
Histograms
Statistics
Key Properties
Legend
Raster Function Infos
Supported Operations:
Export Image
Identify
Measure
Compute Histograms
Compute Statistics Histograms
Get Samples
Compute Class Statistics
Query Boundary
Compute Pixel Location
Compute Angles
Validate
Project