View In:
ArcGIS JavaScript
ArcGIS Online Map Viewer
ArcGIS Earth
Service Description: Hinkley_All_2023
Name: Hinkley_All_2023
Description:
Single Fused Map Cache: false
Extent:
XMin: 474749.5
YMin: 3855177.0
XMax: 489734.5
YMax: 3886852.0
Spatial Reference: 32611
(32611)
LatestVCSWkid(0)
Initial Extent:
XMin: 474749.5
YMin: 3855177.0
XMax: 489734.5
YMax: 3886852.0
Spatial Reference: 32611
(32611)
LatestVCSWkid(0)
Full Extent:
XMin: 474749.5
YMin: 3855177.0
XMax: 489734.5
YMax: 3886852.0
Spatial Reference: 32611
(32611)
LatestVCSWkid(0)
Pixel Size X: 0.5
Pixel Size Y: 0.5
Band Count: 4
Pixel Type: U16
RasterFunction Infos: {"rasterFunctionInfos": [{
"name": "None",
"description": "",
"help": ""
}]}
Mensuration Capabilities: Basic
Inspection Capabilities:
Has Histograms: true
Has Colormap: false
Has Multi Dimensions : false
Rendering Rule:
Min Scale: 0
Max Scale: 0
Copyright Text:
Service Data Type: esriImageServiceDataTypeGeneric
Min Values: 63, 68, 45, 16
Max Values: 5436, 5561, 5306, 3991
Mean Values: 296.30178161596, 357.55714427847, 430.51411321048, 366.65892270911
Standard Deviation Values: 56.30326882534, 99.359403831016, 109.90325137601, 94.118529674109
Object ID Field:
Fields:
None
Default Mosaic Method: Center
Allowed Mosaic Methods:
SortField:
SortValue: null
Mosaic Operator: First
Default Compression Quality: 75
Default Resampling Method: Bilinear
Max Record Count: null
Max Image Height: 4100
Max Image Width: 15000
Max Download Image Count: null
Max Mosaic Image Count: null
Allow Raster Function: true
Allow Copy: true
Allow Analysis: true
Allow Compute TiePoints: false
Supports Statistics: false
Supports Advanced Queries: false
Use StandardizedQueries: true
Raster Type Infos:
Name: Raster Dataset
Description: Supports all ArcGIS Raster Datasets
Help:
Has Raster Attribute Table: false
Edit Fields Info: null
Ownership Based AccessControl For Rasters: null
Child Resources:
Info
Histograms
Statistics
Key Properties
Legend
Raster Function Infos
Supported Operations:
Export Image
Identify
Measure
Compute Histograms
Compute Statistics Histograms
Get Samples
Compute Class Statistics
Query Boundary
Compute Pixel Location
Compute Angles
Validate
Project