{
 "currentVersion": 11.5,
 "serviceDescription": "ElMirage_2022_tif",
 "serviceItemId": "6d35d094f9674679b825f4d1a3b4b056",
 "name": "ElMirage_2022_tif",
 "description": "",
 "extent": {
  "xmin": 436549,
  "ymin": 3805336,
  "xmax": 449359.5,
  "ymax": 3839649,
  "spatialReference": {
   "wkid": 32611,
   "latestWkid": 32611
  }
 },
 "initialExtent": {
  "xmin": 436549,
  "ymin": 3805336,
  "xmax": 449359.5,
  "ymax": 3839649,
  "spatialReference": {
   "wkid": 32611,
   "latestWkid": 32611
  }
 },
 "fullExtent": {
  "xmin": 436549,
  "ymin": 3805336,
  "xmax": 449359.5,
  "ymax": 3839649,
  "spatialReference": {
   "wkid": 32611,
   "latestWkid": 32611
  }
 },
 "sortableFields": "",
 "bandCount": 4,
 "pixelType": "U16",
 "minValues": [
  1,
  1,
  1,
  1
 ],
 "maxValues": [
  65533,
  65532,
  65531,
  65534
 ],
 "meanValues": [
  267.24499872241,
  337.98385894984,
  377.18432760799,
  304.96953223709
 ],
 "stdvValues": [
  51.100630599352,
  80.311378658548,
  102.36711113678,
  81.875385303272
 ],
 "serviceProperties": "Center<\/MosaicMethod>First<\/MosaicOperator>true<\/SortAscending><\/LockImageID><\/TileOrderField>0<\/TileOrderBase>0.000000<\/AvgImageSpacingX>0.000000<\/AvgImageSpacingY>0.0<\/ViewPointX>0.0<\/ViewPointY>0.0<\/ViewPointDefShiftX>0.0<\/ViewPointDefShiftY>None<\/CompressionMethod>75<\/CompressionQuality>0.010000<\/CompressionTolerance>Bilinear<\/SamplingMethod><\/ImageServiceProperties><\/ImageServer>",
 "allowedFields": "",
 "hasMultidimensions": false,
 "pixelSizeX": 0.5,
 "pixelSizeY": 0.5,
 "meanPixelSize": 0.5,
 "datasetFormat": "TIFF",
 "uncompressedSize": 14066133968,
 "blockWidth": 128,
 "blockHeight": 128,
 "compressionType": "LZW",
 "bandNames": [
  "Band_1",
  "Band_2",
  "Band_3",
  "Band_4"
 ],
 "allowCopy": true,
 "allowAnalysis": true,
 "itemAccess": false,
 "inspectionCapabilities": "",
 "noDataValue": 65535,
 "noDataValues": [
  65535,
  65535,
  65535,
  65535
 ],
 "minPixelSize": 0,
 "maxPixelSize": 0,
 "copyrightText": "",
 "serviceDataType": "esriImageServiceDataTypeGeneric",
 "serviceSourceType": "esriImageServiceSourceTypeDataset",
 "objectIdField": "",
 "fields": [],
 "capabilities": "Image,Metadata,Mensuration",
 "defaultMosaicMethod": "Center",
 "allowedMosaicMethods": "",
 "sortField": "",
 "sortValue": null,
 "sortAscending": true,
 "mosaicOperator": "First",
 "defaultCompressionQuality": 75,
 "defaultResamplingMethod": "Bilinear",
 "maxImageHeight": 4100,
 "maxImageWidth": 15000,
 "allowRasterFunction": true,
 "rasterFunctionInfos": [
  {
   "name": "None",
   "description": "",
   "help": ""
  }
 ],
 "rasterTypeInfos": [
  {
   "name": "Raster Dataset",
   "description": "Supports all ArcGIS Raster Datasets",
   "help": ""
  }
 ],
 "mensurationCapabilities": "Basic",
 "hasHistograms": true,
 "hasColormap": false,
 "hasRasterAttributeTable": false,
 "minScale": 0,
 "maxScale": 0,
 "exportTilesAllowed": false,
 "supportsStatistics": false,
 "supportsAdvancedQueries": false,
 "editFieldsInfo": null,
 "ownershipBasedAccessControlForRasters": null,
 "allowComputeTiePoints": false,
 "useStandardizedQueries": true,
 "advancedQueryCapabilities": {
  "useStandardizedQueries": true,
  "supportsStatistics": false,
  "supportsOrderBy": false,
  "supportsDistinct": false,
  "supportsPagination": false
 },
 "spatialReference": {
  "wkid": 32611,
  "latestWkid": 32611
 }
}
