{ "currentVersion": 10.91, "serviceDescription": "
Aerial imagery of the Primary Urban Area (PUA) collected in 2023. This dataset is in the NAD_1983_StatePlane_California_V_FIPS_0405_Feet projection. <\/span><\/p><\/div><\/div><\/div>",
"name": "2023_PUA_Cache",
"description": " Aerial imagery of the Primary Urban Area (PUA) collected in 2023. This dataset is in the NAD_1983_StatePlane_California_V_FIPS_0405_Feet projection. <\/span><\/p><\/div><\/div><\/div>",
"extent": {
"xmin": 6615842.187499985,
"ymin": 1773933.940972242,
"xmax": 7224440.711805541,
"ymax": 2217561.9791666865,
"spatialReference": {
"wkid": 103007,
"latestWkid": 6424
}
},
"initialExtent": {
"xmin": 6615842.187499985,
"ymin": 1773933.940972242,
"xmax": 7224440.711805541,
"ymax": 2217561.9791666865,
"spatialReference": {
"wkid": 103007,
"latestWkid": 6424
}
},
"fullExtent": {
"xmin": 6615842.187499985,
"ymin": 1773933.940972242,
"xmax": 7224440.711805541,
"ymax": 2217561.9791666865,
"spatialReference": {
"wkid": 103007,
"latestWkid": 6424
}
},
"hasMultidimensions": false,
"pixelSizeX": 0.43402777777777807,
"pixelSizeY": 0.43402777777777785,
"datasetFormat": "AFR",
"uncompressedSize": 4299679515327,
"blockWidth": 256,
"blockHeight": 256,
"compressionType": "None",
"bandNames": [
"Band_1",
"Band_2",
"Band_3"
],
"allowCopy": true,
"allowAnalysis": true,
"bandCount": 3,
"pixelType": "U8",
"minPixelSize": 0,
"maxPixelSize": 0,
"copyrightText": "San Bernardino County",
"serviceDataType": "esriImageServiceDataTypeRGB",
"serviceSourceType": "esriImageServiceSourceTypeDataset",
"minValues": [],
"maxValues": [],
"meanValues": [],
"stdvValues": [],
"objectIdField": "",
"fields": [],
"capabilities": "Mensuration,Image,Metadata",
"defaultMosaicMethod": "Center",
"allowedMosaicMethods": "",
"sortField": "",
"sortValue": null,
"sortAscending": true,
"mosaicOperator": "First",
"defaultCompressionQuality": 75,
"defaultResamplingMethod": "Bilinear",
"maxImageHeight": 4100,
"maxImageWidth": 15000,
"allowRasterFunction": true,
"rasterFunctionInfos": [
{
"name": "None",
"description": "",
"help": ""
}
],
"rasterTypeInfos": [
{
"name": "Raster Dataset",
"description": "Supports all ArcGIS Raster Datasets",
"help": ""
}
],
"mensurationCapabilities": "Basic",
"hasHistograms": false,
"hasColormap": false,
"hasRasterAttributeTable": false,
"minScale": 0,
"maxScale": 0,
"exportTilesAllowed": false,
"supportsStatistics": false,
"supportsAdvancedQueries": false,
"editFieldsInfo": null,
"ownershipBasedAccessControlForRasters": null,
"allowComputeTiePoints": false,
"useStandardizedQueries": true,
"advancedQueryCapabilities": {
"useStandardizedQueries": true,
"supportsStatistics": false,
"supportsOrderBy": false,
"supportsDistinct": false,
"supportsPagination": false
},
"spatialReference": {
"wkid": 103007,
"latestWkid": 6424
}
}