{
 "currentVersion": 10.91,
 "cimVersion": "2.9.0",
 "serviceDescription": "",
 "mapName": "y2022_NAIP",
 "description": "",
 "copyrightText": "",
 "supportsDynamicLayers": true,
 "layers": [
  {
   "id": 0,
   "name": "Layers",
   "parentLayerId": -1,
   "defaultVisibility": true,
   "subLayerIds": null,
   "minScale": 0,
   "maxScale": 0,
   "type": "Raster Layer",
   "supportsDynamicLegends": true
  }
 ],
 "tables": [],
 "spatialReference": {
  "wkid": 103007,
  "latestWkid": 6424,
  "xyTolerance": 0.003280833333333333,
  "zTolerance": 0.001,
  "mTolerance": 0.001,
  "falseX": -117608900,
  "falseY": -91881400,
  "xyUnits": 3.626946669214637E7,
  "falseZ": -100000,
  "zUnits": 10000,
  "falseM": -100000,
  "mUnits": 10000
 },
 "singleFusedMapCache": true,
 "tileInfo": {
  "rows": 256,
  "cols": 256,
  "dpi": 96,
  "format": "MIXED",
  "compressionQuality": 75,
  "origin": {
   "x": -117608900,
   "y": 156459700
  },
  "spatialReference": {
   "wkid": 103007,
   "latestWkid": 6424,
   "xyTolerance": 0.003280833333333333,
   "zTolerance": 0.001,
   "mTolerance": 0.001,
   "falseX": -117608900,
   "falseY": -91881400,
   "xyUnits": 3.626946669214637E7,
   "falseZ": -100000,
   "zUnits": 10000,
   "falseM": -100000,
   "mUnits": 10000
  },
  "lods": [
   {
    "level": 0,
    "resolution": 1002.6666666666666,
    "scale": 1155072
   },
   {
    "level": 1,
    "resolution": 501.3333333333333,
    "scale": 577536
   },
   {
    "level": 2,
    "resolution": 250.66666666666666,
    "scale": 288768
   },
   {
    "level": 3,
    "resolution": 125.33333333333333,
    "scale": 144384
   },
   {
    "level": 4,
    "resolution": 62.666666666666664,
    "scale": 72192
   },
   {
    "level": 5,
    "resolution": 31.333333333333332,
    "scale": 36096
   },
   {
    "level": 6,
    "resolution": 15.666666666666666,
    "scale": 18048
   },
   {
    "level": 7,
    "resolution": 7.833333333333333,
    "scale": 9024
   },
   {
    "level": 8,
    "resolution": 3.9166666666666665,
    "scale": 4512
   },
   {
    "level": 9,
    "resolution": 1.9583333333333333,
    "scale": 2256
   },
   {
    "level": 10,
    "resolution": 0.9791666666666666,
    "scale": 1128
   },
   {
    "level": 11,
    "resolution": 0.43402777777777773,
    "scale": 500
   }
  ]
 },
 "storageInfo": {
  "storageFormat": "esriMapCacheStorageModeCompactV2",
  "packetSize": 128
 },
 "initialExtent": {
  "xmin": 6559013.671874985,
  "ymin": 1676399.513817934,
  "xmax": 7809241.015624985,
  "ymax": 2613218.368126517,
  "spatialReference": {
   "wkid": 103007,
   "latestWkid": 6424,
   "xyTolerance": 0.003280833333333333,
   "zTolerance": 0.001,
   "mTolerance": 0.001,
   "falseX": -117608900,
   "falseY": -91881400,
   "xyUnits": 3.626946669214637E7,
   "falseZ": -100000,
   "zUnits": 10000,
   "falseM": -100000,
   "mUnits": 10000
  }
 },
 "fullExtent": {
  "xmin": 6615842.187499985,
  "ymin": 1753508.5937500033,
  "xmax": 7752412.499999985,
  "ymax": 2536109.2881944478,
  "spatialReference": {
   "wkid": 103007,
   "latestWkid": 6424,
   "xyTolerance": 0.003280833333333333,
   "zTolerance": 0.001,
   "mTolerance": 0.001,
   "falseX": -117608900,
   "falseY": -91881400,
   "xyUnits": 3.626946669214637E7,
   "falseZ": -100000,
   "zUnits": 10000,
   "falseM": -100000,
   "mUnits": 10000
  }
 },
 "datesInUnknownTimezone": false,
 "minScale": 1155072,
 "maxScale": 500,
 "units": "esriFeet",
 "supportedImageFormatTypes": "PNG32,PNG24,PNG,JPG,DIB,TIFF,EMF,PS,PDF,GIF,SVG,SVGZ,BMP",
 "documentInfo": {
  "Title": "Map",
  "Author": "",
  "Comments": "",
  "Subject": "",
  "Category": "",
  "AntialiasingMode": "None",
  "TextAntialiasingMode": "Force",
  "Version": "2.9.0",
  "Keywords": ""
 },
 "supportsQueryDomains": true,
 "capabilities": "Map,Query,Data",
 "supportedQueryFormats": "JSON, geoJSON, PBF",
 "exportTilesAllowed": false,
 "referenceScale": 0.0,
 "datumTransformations": [
  {
   "geoTransforms": [
    {
     "wkid": 108363,
     "latestWkid": 108363,
     "transformForward": false,
     "name": "WGS_1984_(ITRF08)_To_NAD_1983_2011"
    }
   ]
  },
  {
   "geoTransforms": [
    {
     "wkid": 108363,
     "latestWkid": 108363,
     "transformForward": true,
     "name": "WGS_1984_(ITRF08)_To_NAD_1983_2011"
    }
   ]
  },
  {
   "geoTransforms": [
    {
     "wkid": 108190,
     "latestWkid": 108190,
     "transformForward": false,
     "name": "WGS_1984_(ITRF00)_To_NAD_1983"
    }
   ]
  },
  {
   "geoTransforms": [
    {
     "wkid": 108190,
     "latestWkid": 108190,
     "transformForward": true,
     "name": "WGS_1984_(ITRF00)_To_NAD_1983"
    }
   ]
  }
 ],
 "supportsDatumTransformation": true,
 "floorAwareMapProperties": {
  "defaultFloorFilterSettings": {
   "isEnabled": false
  }
 },
 "archivingInfo": {
  "supportsHistoricMoment": false
 },
 "supportsClipping": true,
 "supportsSpatialFilter": true,
 "supportsTimeRelation": true,
 "supportsQueryDataElements": true,
 "maxRecordCount": 2000,
 "maxImageHeight": 4096,
 "maxImageWidth": 4096,
 "supportedExtensions": "",
 "resampling": false,
 "serviceItemId": "d187feda9d674fda8803dc912e8c3de4"
}
