{
 "currentVersion": 10.91,
 "serviceDescription": "Aerial image cache of the Primary Urban Area (PUA) collected in 2021.",
 "mapName": "Layers",
 "description": "",
 "copyrightText": "County Of San Bernardino",
 "supportsDynamicLayers": false,
 "layers": [
  {
   "id": 0,
   "name": "Y2021_PUA",
   "parentLayerId": -1,
   "defaultVisibility": true,
   "subLayerIds": null,
   "minScale": 0,
   "maxScale": 0,
   "type": "Raster Layer"
  }
 ],
 "tables": [],
 "spatialReference": {
  "wkid": 103007,
  "latestWkid": 6424
 },
 "singleFusedMapCache": true,
 "tileInfo": {
  "rows": 256,
  "cols": 256,
  "dpi": 96,
  "format": "MIXED",
  "compressionQuality": 75,
  "origin": {
   "x": -117608900,
   "y": 156459700
  },
  "spatialReference": {
   "wkid": 103007,
   "latestWkid": 6424
  },
  "lods": [
   {
    "level": 0,
    "resolution": 1002.6666666666666,
    "scale": 1155072
   },
   {
    "level": 1,
    "resolution": 501.3333333333333,
    "scale": 577536
   },
   {
    "level": 2,
    "resolution": 250.66666666666666,
    "scale": 288768
   },
   {
    "level": 3,
    "resolution": 125.33333333333333,
    "scale": 144384
   },
   {
    "level": 4,
    "resolution": 62.666666666666664,
    "scale": 72192
   },
   {
    "level": 5,
    "resolution": 31.333333333333332,
    "scale": 36096
   },
   {
    "level": 6,
    "resolution": 15.666666666666666,
    "scale": 18048
   },
   {
    "level": 7,
    "resolution": 7.833333333333333,
    "scale": 9024
   },
   {
    "level": 8,
    "resolution": 3.9166666666666665,
    "scale": 4512
   },
   {
    "level": 9,
    "resolution": 1.9583333333333333,
    "scale": 2256
   },
   {
    "level": 10,
    "resolution": 0.9791666666666666,
    "scale": 1128
   },
   {
    "level": 11,
    "resolution": 0.43402777777777773,
    "scale": 500
   }
  ]
 },
 "initialExtent": {
  "xmin": 6585412.760416649,
  "ymin": 1946988.3007300068,
  "xmax": 7254869.704861093,
  "ymax": 2311587.555250275,
  "spatialReference": {
   "wkid": 103007,
   "latestWkid": 6424
  }
 },
 "fullExtent": {
  "xmin": 6615842.621527761,
  "ymin": 1773933.940972242,
  "xmax": 7224439.843749983,
  "ymax": 2217561.9791666865,
  "spatialReference": {
   "wkid": 103007,
   "latestWkid": 6424
  }
 },
 "minScale": 1155072,
 "maxScale": 500,
 "units": "esriFeet",
 "supportedImageFormatTypes": "PNG32,PNG24,PNG,JPG,DIB,TIFF,EMF,PS,PDF,GIF,SVG,SVGZ,BMP",
 "documentInfo": {
  "Title": "Y2021 PUA Cache",
  "Author": "",
  "Comments": "Aerial image cache of the Primary Urban Area (PUA) collected in 2021.",
  "Subject": "Aerial image cache of the Primary Urban Area (PUA) collected in 2021.",
  "Category": "",
  "AntialiasingMode": "Fastest",
  "TextAntialiasingMode": "Force",
  "Keywords": "PUA,2015,Imagery,Primary Urban Area"
 },
 "capabilities": "Map",
 "supportedQueryFormats": "JSON, geoJSON",
 "exportTilesAllowed": false,
 "referenceScale": 0,
 "supportsDatumTransformation": true,
 "maxRecordCount": 1000,
 "maxImageHeight": 4096,
 "maxImageWidth": 4096,
 "supportedExtensions": "KmlServer",
 "resampling": false,
 "serviceItemId": "fca6c3566a15493196691efcf85a910b"
}
