{
 "currentVersion": 10.91,
 "serviceDescription": "2015 aerial imagery cache of San Bernardino County's Populated Urban Area (PUA).",
 "mapName": "Layers",
 "description": "",
 "copyrightText": "San Bernardino County",
 "supportsDynamicLayers": true,
 "layers": [
  {
   "id": 0,
   "name": "Layers",
   "parentLayerId": -1,
   "defaultVisibility": true,
   "subLayerIds": null,
   "minScale": 0,
   "maxScale": 0,
   "type": "Raster Layer"
  }
 ],
 "tables": [],
 "spatialReference": {
  "wkid": 103007,
  "latestWkid": 6424
 },
 "singleFusedMapCache": true,
 "tileInfo": {
  "rows": 256,
  "cols": 256,
  "dpi": 96,
  "format": "MIXED",
  "compressionQuality": 75,
  "origin": {
   "x": -117608900,
   "y": 156459700
  },
  "spatialReference": {
   "wkid": 103007,
   "latestWkid": 6424
  },
  "lods": [
   {
    "level": 0,
    "resolution": 1002.6666666666666,
    "scale": 1155072
   },
   {
    "level": 1,
    "resolution": 501.3333333333333,
    "scale": 577536
   },
   {
    "level": 2,
    "resolution": 250.66666666666666,
    "scale": 288768
   },
   {
    "level": 3,
    "resolution": 125.33333333333333,
    "scale": 144384
   },
   {
    "level": 4,
    "resolution": 62.666666666666664,
    "scale": 72192
   },
   {
    "level": 5,
    "resolution": 31.333333333333332,
    "scale": 36096
   },
   {
    "level": 6,
    "resolution": 15.666666666666666,
    "scale": 18048
   },
   {
    "level": 7,
    "resolution": 7.833333333333333,
    "scale": 9024
   },
   {
    "level": 8,
    "resolution": 3.9166666666666665,
    "scale": 4512
   },
   {
    "level": 9,
    "resolution": 1.9583333333333333,
    "scale": 2256
   },
   {
    "level": 10,
    "resolution": 0.9791666666666666,
    "scale": 1128
   },
   {
    "level": 11,
    "resolution": 0.43402777777777773,
    "scale": 500
   }
  ]
 },
 "initialExtent": {
  "xmin": 6457600.672382554,
  "ymin": 1907323.9358388903,
  "xmax": 7366109.310256308,
  "ymax": 2256840.1041666865,
  "spatialReference": {
   "wkid": 103007,
   "latestWkid": 6424
  }
 },
 "fullExtent": {
  "xmin": 6599169.878472209,
  "ymin": 1753890.1041666865,
  "xmax": 7224540.104166653,
  "ymax": 2232890.1041666865,
  "spatialReference": {
   "wkid": 103007,
   "latestWkid": 6424
  }
 },
 "minScale": 1155072,
 "maxScale": 500,
 "units": "esriFeet",
 "supportedImageFormatTypes": "PNG32,PNG24,PNG,JPG,DIB,TIFF,EMF,PS,PDF,GIF,SVG,SVGZ,BMP",
 "documentInfo": {
  "Title": "",
  "Author": "",
  "Comments": "",
  "Subject": "",
  "Category": "",
  "AntialiasingMode": "None",
  "TextAntialiasingMode": "Force",
  "Keywords": "PUA,Imagery,San Bernardino County,Populated Urban Area"
 },
 "capabilities": "Map",
 "supportedQueryFormats": "JSON, geoJSON",
 "exportTilesAllowed": false,
 "referenceScale": 0,
 "supportsDatumTransformation": true,
 "maxRecordCount": 1000,
 "maxImageHeight": 4096,
 "maxImageWidth": 4096,
 "supportedExtensions": "KmlServer",
 "resampling": false,
 "serviceItemId": "d4105b59ebea46eca425a9e9ad438c5e"
}
