{
 "currentVersion": 10.91,
 "cimVersion": "2.9.0",
 "serviceDescription": "",
 "mapName": "Layers",
 "description": "",
 "copyrightText": "County of San Bernardino",
 "supportsDynamicLayers": true,
 "layers": [
  {
   "id": 0,
   "name": "Layers",
   "parentLayerId": -1,
   "defaultVisibility": true,
   "subLayerIds": null,
   "minScale": 0,
   "maxScale": 0,
   "type": "Raster Layer",
   "supportsDynamicLegends": true
  }
 ],
 "tables": [],
 "spatialReference": {
  "wkid": 103007,
  "latestWkid": 6424,
  "xyTolerance": 0.003280833333333333,
  "zTolerance": 0.001,
  "mTolerance": 0.001,
  "falseX": -117608900,
  "falseY": -91881400,
  "xyUnits": 3.626946669214637E7,
  "falseZ": -100000,
  "zUnits": 10000,
  "falseM": -100000,
  "mUnits": 10000
 },
 "singleFusedMapCache": true,
 "tileInfo": {
  "rows": 128,
  "cols": 128,
  "dpi": 96,
  "format": "MIXED",
  "compressionQuality": 75,
  "origin": {
   "x": -117608900,
   "y": 156459700
  },
  "spatialReference": {
   "wkid": 103007,
   "latestWkid": 6424,
   "xyTolerance": 0.003280833333333333,
   "zTolerance": 0.001,
   "mTolerance": 0.001,
   "falseX": -117608900,
   "falseY": -91881400,
   "xyUnits": 3.626946669214637E7,
   "falseZ": -100000,
   "zUnits": 10000,
   "falseM": -100000,
   "mUnits": 10000
  },
  "lods": [
   {
    "level": 0,
    "resolution": 1504,
    "scale": 1732608
   },
   {
    "level": 1,
    "resolution": 1002.6666666666666,
    "scale": 1155072
   },
   {
    "level": 2,
    "resolution": 501.3333333333333,
    "scale": 577536
   },
   {
    "level": 3,
    "resolution": 250.66666666666666,
    "scale": 288768
   },
   {
    "level": 4,
    "resolution": 125.33333333333333,
    "scale": 144384
   },
   {
    "level": 5,
    "resolution": 62.666666666666664,
    "scale": 72192
   },
   {
    "level": 6,
    "resolution": 31.333333333333332,
    "scale": 36096
   },
   {
    "level": 7,
    "resolution": 15.666666666666666,
    "scale": 18048
   },
   {
    "level": 8,
    "resolution": 7.833333333333333,
    "scale": 9024
   },
   {
    "level": 9,
    "resolution": 3.9166666666666665,
    "scale": 4512
   },
   {
    "level": 10,
    "resolution": 1.9583333333333333,
    "scale": 2256
   },
   {
    "level": 11,
    "resolution": 0.9791666666666666,
    "scale": 1128
   }
  ]
 },
 "storageInfo": {
  "storageFormat": "esriMapCacheStorageModeCompactV2",
  "packetSize": 128
 },
 "initialExtent": {
  "xmin": 6415454.311504387,
  "ymin": 1531772.0483558404,
  "xmax": 7986353.610960963,
  "ymax": 2784219.5738805523,
  "spatialReference": {
   "wkid": 103007,
   "latestWkid": 6424,
   "xyTolerance": 0.003280833333333333,
   "zTolerance": 0.001,
   "mTolerance": 0.001,
   "falseX": -117608900,
   "falseY": -91881400,
   "xyUnits": 3.626946669214637E7,
   "falseZ": -100000,
   "zUnits": 10000,
   "falseM": -100000,
   "mUnits": 10000
  }
 },
 "fullExtent": {
  "xmin": 6527720.3125,
  "ymin": 1617617.3958333533,
  "xmax": 7851205.0625,
  "ymax": 2712093.6666666865,
  "spatialReference": {
   "wkid": 103007,
   "latestWkid": 6424,
   "xyTolerance": 0.003280833333333333,
   "zTolerance": 0.001,
   "mTolerance": 0.001,
   "falseX": -117608900,
   "falseY": -91881400,
   "xyUnits": 3.626946669214637E7,
   "falseZ": -100000,
   "zUnits": 10000,
   "falseM": -100000,
   "mUnits": 10000
  }
 },
 "datesInUnknownTimezone": false,
 "minScale": 1732608,
 "maxScale": 1128,
 "units": "esriFeet",
 "supportedImageFormatTypes": "PNG32,PNG24,PNG,JPG,DIB,TIFF,EMF,PS,PDF,GIF,SVG,SVGZ,BMP",
 "documentInfo": {
  "Title": "Map",
  "Author": "",
  "Comments": "",
  "Subject": "",
  "Category": "",
  "AntialiasingMode": "None",
  "TextAntialiasingMode": "Force",
  "Version": "2.9.0",
  "Keywords": "Imagery,Primary Urban Area,Cache,NAIP,2014"
 },
 "supportsQueryDomains": true,
 "capabilities": "Map,Query,Data",
 "supportedQueryFormats": "JSON, geoJSON, PBF",
 "exportTilesAllowed": false,
 "referenceScale": 0.0,
 "datumTransformations": [
  {
   "geoTransforms": [
    {
     "wkid": 108363,
     "latestWkid": 108363,
     "transformForward": false,
     "name": "WGS_1984_(ITRF08)_To_NAD_1983_2011"
    }
   ]
  },
  {
   "geoTransforms": [
    {
     "wkid": 108363,
     "latestWkid": 108363,
     "transformForward": true,
     "name": "WGS_1984_(ITRF08)_To_NAD_1983_2011"
    }
   ]
  }
 ],
 "supportsDatumTransformation": true,
 "floorAwareMapProperties": {
  "defaultFloorFilterSettings": {
   "isEnabled": false
  }
 },
 "archivingInfo": {
  "supportsHistoricMoment": false
 },
 "supportsClipping": true,
 "supportsSpatialFilter": true,
 "supportsTimeRelation": true,
 "supportsQueryDataElements": true,
 "maxRecordCount": 1000,
 "maxImageHeight": 4096,
 "maxImageWidth": 4096,
 "supportedExtensions": "KmlServer",
 "resampling": false,
 "serviceItemId": "4cad708889a849ef8339f4cfd03be29c"
}
